BEGIN:VCALENDAR
VERSION:2.0
PRODID:Garrison Keillor
BEGIN:VEVENT
UID:69e654e11c14a
DTSTART:19970604T050000Z
SEQUENCE:0
TRANSP:OPAQUE
DTEND:19970604T050000Z
SUMMARY:Garrison Keillor
CLASS:PUBLIC
DTSTAMP:20260420T163129Z
END:VEVENT
END:VCALENDAR