BEGIN:VCALENDAR
VERSION:2.0
PRODID:4 Him
BEGIN:VEVENT
UID:69eb810e0dccd
DTSTART:19961103T060000Z
SEQUENCE:0
TRANSP:OPAQUE
DTEND:19961103T060000Z
SUMMARY:4 Him
CLASS:PUBLIC
DTSTAMP:20260424T144118Z
END:VEVENT
END:VCALENDAR