BEGIN:VCALENDAR
VERSION:2.0
PRODID:Diamanda Galas
BEGIN:VEVENT
UID:69ed6db64696c
DTSTART:19960208T060000Z
SEQUENCE:0
TRANSP:OPAQUE
DTEND:19960208T060000Z
SUMMARY:Diamanda Galas
CLASS:PUBLIC
DTSTAMP:20260426T014318Z
END:VEVENT
END:VCALENDAR