BEGIN:VCALENDAR
VERSION:2.0
PRODID:Cassandra Wilson
BEGIN:VEVENT
UID:69e9c643a0836
DTSTART:19951115T060000Z
SEQUENCE:0
TRANSP:OPAQUE
DTEND:19951115T060000Z
SUMMARY:Cassandra Wilson
CLASS:PUBLIC
DTSTAMP:20260423T071203Z
END:VEVENT
END:VCALENDAR