BEGIN:VCALENDAR
VERSION:2.0
PRODID:4 Him
BEGIN:VEVENT
UID:69e5046f34fd9
DTSTART:19950415T050000Z
SEQUENCE:0
TRANSP:OPAQUE
DTEND:19950415T050000Z
SUMMARY:4 Him
CLASS:PUBLIC
DTSTAMP:20260419T163559Z
END:VEVENT
END:VCALENDAR