BEGIN:VCALENDAR
VERSION:2.0
PRODID:Crash Test Dummies
BEGIN:VEVENT
UID:69e534107b0b7
DTSTART:19940910T050000Z
SEQUENCE:0
TRANSP:OPAQUE
DTEND:19940910T050000Z
SUMMARY:Crash Test Dummies
CLASS:PUBLIC
DTSTAMP:20260419T195912Z
END:VEVENT
END:VCALENDAR