BEGIN:VCALENDAR
VERSION:2.0
PRODID:Elvis Costello
BEGIN:VEVENT
UID:69e5047915f3d
DTSTART:19940527T050000Z
SEQUENCE:0
TRANSP:OPAQUE
DTEND:19940527T050000Z
SUMMARY:Elvis Costello
CLASS:PUBLIC
DTSTAMP:20260419T163609Z
END:VEVENT
END:VCALENDAR