BEGIN:VCALENDAR
VERSION:2.0
PRODID:Cincinnati Ballet
BEGIN:VEVENT
UID:69ed00ae53d0f
DTSTART:19901128T060000Z
SEQUENCE:0
TRANSP:OPAQUE
DTEND:19901128T060000Z
SUMMARY:Cincinnati Ballet
CLASS:PUBLIC
DTSTAMP:20260425T175806Z
END:VEVENT
END:VCALENDAR