BEGIN:VCALENDAR
VERSION:2.0
PRODID:Steve Green
BEGIN:VEVENT
UID:69e54c0d495c3
DTSTART:19901005T050000Z
SEQUENCE:0
TRANSP:OPAQUE
DTEND:19901005T050000Z
SUMMARY:Steve Green
CLASS:PUBLIC
DTSTAMP:20260419T214133Z
END:VEVENT
END:VCALENDAR