BEGIN:VCALENDAR
VERSION:2.0
PRODID:Peter Pan
BEGIN:VEVENT
UID:69e53410d1c65
DTSTART:19900912T050000Z
SEQUENCE:0
TRANSP:OPAQUE
DTEND:19900912T050000Z
SUMMARY:Peter Pan
CLASS:PUBLIC
DTSTAMP:20260419T195912Z
END:VEVENT
END:VCALENDAR