BEGIN:VCALENDAR
VERSION:2.0
PRODID:The Nylons
BEGIN:VEVENT
UID:69ed663126cfc
DTSTART:19891110T060000Z
SEQUENCE:0
TRANSP:OPAQUE
DTEND:19891110T060000Z
SUMMARY:The Nylons
CLASS:PUBLIC
DTSTAMP:20260426T011113Z
END:VEVENT
END:VCALENDAR