BEGIN:VCALENDAR
VERSION:2.0
PRODID:Michael W. Smith
BEGIN:VEVENT
UID:69eb69b7f34f3
DTSTART:19891021T050000Z
SEQUENCE:0
TRANSP:OPAQUE
DTEND:19891021T050000Z
SUMMARY:Michael W. Smith
CLASS:PUBLIC
DTSTAMP:20260424T130143Z
END:VEVENT
END:VCALENDAR