BEGIN:VCALENDAR
VERSION:2.0
PRODID:May Daze
BEGIN:VEVENT
UID:69e9d9e5712b6
DTSTART:19890501T050000Z
SEQUENCE:0
TRANSP:OPAQUE
DTEND:19890501T050000Z
SUMMARY:May Daze
CLASS:PUBLIC
DTSTAMP:20260423T083549Z
END:VEVENT
END:VCALENDAR