BEGIN:VCALENDAR
VERSION:2.0
PRODID:Queen Ida
BEGIN:VEVENT
UID:69e51a0dd55cb
DTSTART:19890318T060000Z
SEQUENCE:0
TRANSP:OPAQUE
DTEND:19890318T060000Z
SUMMARY:Queen Ida
CLASS:PUBLIC
DTSTAMP:20260419T180813Z
END:VEVENT
END:VCALENDAR