BEGIN:VCALENDAR
VERSION:2.0
PRODID:Queen Ida
BEGIN:VEVENT
UID:69e54c0ce37a6
DTSTART:19880415T050000Z
SEQUENCE:0
TRANSP:OPAQUE
DTEND:19880415T050000Z
SUMMARY:Queen Ida
CLASS:PUBLIC
DTSTAMP:20260419T214132Z
END:VEVENT
END:VCALENDAR