BEGIN:VCALENDAR
VERSION:2.0
PRODID:Tango Argentino
BEGIN:VEVENT
UID:69e59828441e3
DTSTART:19871106T060000Z
SEQUENCE:0
TRANSP:OPAQUE
DTEND:19871106T060000Z
SUMMARY:Tango Argentino
CLASS:PUBLIC
DTSTAMP:20260420T030616Z
END:VEVENT
END:VCALENDAR