BEGIN:VCALENDAR
VERSION:2.0
PRODID:B.B. King
BEGIN:VEVENT
UID:69e59850d9243
DTSTART:19861113T060000Z
SEQUENCE:0
TRANSP:OPAQUE
DTEND:19861113T060000Z
SUMMARY:B.B. King
CLASS:PUBLIC
DTSTAMP:20260420T030656Z
END:VEVENT
END:VCALENDAR