BEGIN:VCALENDAR
VERSION:2.0
PRODID:Nutcracker Fantasy
BEGIN:VEVENT
UID:69e8ef8a4017e
DTSTART:19841212T060000Z
SEQUENCE:0
TRANSP:OPAQUE
DTEND:19841212T060000Z
SUMMARY:Nutcracker Fantasy
CLASS:PUBLIC
DTSTAMP:20260422T155554Z
END:VEVENT
END:VCALENDAR