BEGIN:VCALENDAR
VERSION:2.0
PRODID:Stuttgart Ballet
BEGIN:VEVENT
UID:69e53410b507e
DTSTART:20030408T050000Z
SEQUENCE:0
TRANSP:OPAQUE
DTEND:20030408T050000Z
SUMMARY:Stuttgart Ballet
CLASS:PUBLIC
DTSTAMP:20260419T195912Z
END:VEVENT
END:VCALENDAR