BEGIN:VCALENDAR
VERSION:2.0
PRODID:Dai Rakuda Kan
BEGIN:VEVENT
UID:69e89477aa5fc
DTSTART:20010221T060000Z
SEQUENCE:0
TRANSP:OPAQUE
DTEND:20010221T060000Z
SUMMARY:Dai Rakuda Kan
CLASS:PUBLIC
DTSTAMP:20260422T092719Z
END:VEVENT
END:VCALENDAR