BEGIN:VCALENDAR
VERSION:2.0
PRODID:Merce Cunningham Dance Company
BEGIN:VEVENT
UID:69e5b35c69610
DTSTART:20000304T060000Z
SEQUENCE:0
TRANSP:OPAQUE
DTEND:20000304T060000Z
SUMMARY:Merce Cunningham Dance Company
CLASS:PUBLIC
DTSTAMP:20260420T050220Z
END:VEVENT
END:VCALENDAR