BEGIN:VCALENDAR
VERSION:2.0
PRODID:Merce Cunningham Dance Company
BEGIN:VEVENT
UID:69e59853d86fb
DTSTART:19930226T060000Z
SEQUENCE:0
TRANSP:OPAQUE
DTEND:19930226T060000Z
SUMMARY:Merce Cunningham Dance Company
CLASS:PUBLIC
DTSTAMP:20260420T030659Z
END:VEVENT
END:VCALENDAR