BEGIN:VCALENDAR
VERSION:2.0
PRODID:Kronos Quartet
BEGIN:VEVENT
UID:69e53411876fa
DTSTART:19930214T060000Z
SEQUENCE:0
TRANSP:OPAQUE
DTEND:19930214T060000Z
SUMMARY:Kronos Quartet
CLASS:PUBLIC
DTSTAMP:20260419T195913Z
END:VEVENT
END:VCALENDAR