BEGIN:VCALENDAR
VERSION:2.0
PRODID:Flock of Seagulls
BEGIN:VEVENT
UID:69ec3caad01b0
DTSTART:19830722T050000Z
SEQUENCE:0
TRANSP:OPAQUE
DTEND:19830722T050000Z
SUMMARY:Flock of Seagulls
CLASS:PUBLIC
DTSTAMP:20260425T040146Z
END:VEVENT
END:VCALENDAR