BEGIN:VCALENDAR
VERSION:2.0
PRODID:George Benson
BEGIN:VEVENT
UID:69ecf000a8ced
DTSTART:19830715T050000Z
SEQUENCE:0
TRANSP:OPAQUE
DTEND:19830715T050000Z
SUMMARY:George Benson
CLASS:PUBLIC
DTSTAMP:20260425T164656Z
END:VEVENT
END:VCALENDAR