BEGIN:VCALENDAR
VERSION:2.0
PRODID:Queen Ida
BEGIN:VEVENT
UID:69e9b705dc66f
DTSTART:19830711T050000Z
SEQUENCE:0
TRANSP:OPAQUE
DTEND:19830711T050000Z
SUMMARY:Queen Ida
CLASS:PUBLIC
DTSTAMP:20260423T060701Z
END:VEVENT
END:VCALENDAR