BEGIN:VCALENDAR
VERSION:2.0
PRODID:Ashford & Simpson
BEGIN:VEVENT
UID:69ed65fd4e83b
DTSTART:19820916T050000Z
SEQUENCE:0
TRANSP:OPAQUE
DTEND:19820916T050000Z
SUMMARY:Ashford & Simpson
CLASS:PUBLIC
DTSTAMP:20260426T011021Z
END:VEVENT
END:VCALENDAR