BEGIN:VCALENDAR
VERSION:2.0
PRODID:Talking Heads
BEGIN:VEVENT
UID:69e77dfd8d14b
DTSTART:19820819T050000Z
SEQUENCE:0
TRANSP:OPAQUE
DTEND:19820819T050000Z
SUMMARY:Talking Heads
CLASS:PUBLIC
DTSTAMP:20260421T133909Z
END:VEVENT
END:VCALENDAR