BEGIN:VCALENDAR
VERSION:2.0
PRODID:Queen Ida
BEGIN:VEVENT
UID:69ead0322aa13
DTSTART:19820708T050000Z
SEQUENCE:0
TRANSP:OPAQUE
DTEND:19820708T050000Z
SUMMARY:Queen Ida
CLASS:PUBLIC
DTSTAMP:20260424T020642Z
END:VEVENT
END:VCALENDAR