BEGIN:VCALENDAR
VERSION:2.0
PRODID:Dr. Wayne Dyer
BEGIN:VEVENT
UID:69e534103ca3c
DTSTART:19811028T060000Z
SEQUENCE:0
TRANSP:OPAQUE
DTEND:19811028T060000Z
SUMMARY:Dr. Wayne Dyer
CLASS:PUBLIC
DTSTAMP:20260419T195912Z
END:VEVENT
END:VCALENDAR