BEGIN:VCALENDAR
VERSION:2.0
PRODID:Peter Tosh
BEGIN:VEVENT
UID:69e586414f3db
DTSTART:19810915T050000Z
SEQUENCE:0
TRANSP:OPAQUE
DTEND:19810915T050000Z
SUMMARY:Peter Tosh
CLASS:PUBLIC
DTSTAMP:20260420T014953Z
END:VEVENT
END:VCALENDAR