BEGIN:VCALENDAR
VERSION:2.0
PRODID:Dionne Warwick
BEGIN:VEVENT
UID:69e5341164926
DTSTART:19801102T060000Z
SEQUENCE:0
TRANSP:OPAQUE
DTEND:19801102T060000Z
SUMMARY:Dionne Warwick
CLASS:PUBLIC
DTSTAMP:20260419T195913Z
END:VEVENT
END:VCALENDAR