BEGIN:VCALENDAR
VERSION:2.0
PRODID:Bob Hope
BEGIN:VEVENT
UID:69e59895b8bac
DTSTART:19801018T050000Z
SEQUENCE:0
TRANSP:OPAQUE
DTEND:19801018T050000Z
SUMMARY:Bob Hope
CLASS:PUBLIC
DTSTAMP:20260420T030805Z
END:VEVENT
END:VCALENDAR