BEGIN:VCALENDAR
VERSION:2.0
PRODID:Winter’s Tale
BEGIN:VEVENT
UID:69e68386e88f2
DTSTART:20110212T020000Z
SEQUENCE:0
TRANSP:OPAQUE
DTEND:20110212T020000Z
SUMMARY:Winter’s Tale
CLASS:PUBLIC
DTSTAMP:20260420T195030Z
END:VEVENT
BEGIN:VEVENT
UID:69e68386e8916
DTSTART:20110213T020000Z
SEQUENCE:0
TRANSP:OPAQUE
DTEND:20110213T020000Z
SUMMARY:Winter’s Tale
CLASS:PUBLIC
DTSTAMP:20260420T195030Z
END:VEVENT
BEGIN:VEVENT
UID:69e68386e891a
DTSTART:20110213T200000Z
SEQUENCE:0
TRANSP:OPAQUE
DTEND:20110213T200000Z
SUMMARY:Winter’s Tale
CLASS:PUBLIC
DTSTAMP:20260420T195030Z
END:VEVENT
BEGIN:VEVENT
UID:69e68386e891c
DTSTART:20110217T013000Z
SEQUENCE:0
TRANSP:OPAQUE
DTEND:20110217T013000Z
SUMMARY:Winter’s Tale
CLASS:PUBLIC
DTSTAMP:20260420T195030Z
END:VEVENT
BEGIN:VEVENT
UID:69e68386e891e
DTSTART:20110218T013000Z
SEQUENCE:0
TRANSP:OPAQUE
DTEND:20110218T013000Z
SUMMARY:Winter’s Tale
CLASS:PUBLIC
DTSTAMP:20260420T195030Z
END:VEVENT
BEGIN:VEVENT
UID:69e68386e8921
DTSTART:20110219T020000Z
SEQUENCE:0
TRANSP:OPAQUE
DTEND:20110219T020000Z
SUMMARY:Winter’s Tale
CLASS:PUBLIC
DTSTAMP:20260420T195030Z
END:VEVENT
BEGIN:VEVENT
UID:69e68386e8923
DTSTART:20110220T020000Z
SEQUENCE:0
TRANSP:OPAQUE
DTEND:20110220T020000Z
SUMMARY:Winter’s Tale
CLASS:PUBLIC
DTSTAMP:20260420T195030Z
END:VEVENT
END:VCALENDAR