BEGIN:VCALENDAR
VERSION:2.0
PRODID:Teddy Pendergrass
BEGIN:VEVENT
UID:69ec3cac43926
DTSTART:19790614T050000Z
SEQUENCE:0
TRANSP:OPAQUE
DTEND:19790614T050000Z
SUMMARY:Teddy Pendergrass
CLASS:PUBLIC
DTSTAMP:20260425T040148Z
END:VEVENT
END:VCALENDAR