BEGIN:VCALENDAR
VERSION:2.0
PRODID:Carmen McRae
BEGIN:VEVENT
UID:69e598547785e
DTSTART:19790626T050000Z
SEQUENCE:0
TRANSP:OPAQUE
DTEND:19790626T050000Z
SUMMARY:Carmen McRae
CLASS:PUBLIC
DTSTAMP:20260420T030700Z
END:VEVENT
END:VCALENDAR