BEGIN:VCALENDAR
VERSION:2.0
PRODID:Bob Marley
BEGIN:VEVENT
UID:69e4c60e2ae4c
DTSTART:19791115T060000Z
SEQUENCE:0
TRANSP:OPAQUE
DTEND:19791115T060000Z
SUMMARY:Bob Marley
CLASS:PUBLIC
DTSTAMP:20260419T120950Z
END:VEVENT
END:VCALENDAR