BEGIN:VCALENDAR
VERSION:2.0
PRODID:Lou Rawls
BEGIN:VEVENT
UID:69e63dc048e65
DTSTART:19780416T060000Z
SEQUENCE:0
TRANSP:OPAQUE
DTEND:19780416T060000Z
SUMMARY:Lou Rawls
CLASS:PUBLIC
DTSTAMP:20260420T145248Z
END:VEVENT
END:VCALENDAR