BEGIN:VCALENDAR
VERSION:2.0
PRODID:Nutcracker Fantasy
BEGIN:VEVENT
UID:69e6834a843e2
DTSTART:19781208T060000Z
SEQUENCE:0
TRANSP:OPAQUE
DTEND:19781208T060000Z
SUMMARY:Nutcracker Fantasy
CLASS:PUBLIC
DTSTAMP:20260420T194930Z
END:VEVENT
END:VCALENDAR