BEGIN:VCALENDAR
VERSION:2.0
PRODID:Bread
BEGIN:VEVENT
UID:69e4f9ab2c319
DTSTART:19770309T060000Z
SEQUENCE:0
TRANSP:OPAQUE
DTEND:19770309T060000Z
SUMMARY:Bread
CLASS:PUBLIC
DTSTAMP:20260419T155003Z
END:VEVENT
END:VCALENDAR