BEGIN:VCALENDAR
VERSION:2.0
PRODID:Jerry Jeff Walker
BEGIN:VEVENT
UID:69e6c80abdf27
DTSTART:19770408T060000Z
SEQUENCE:0
TRANSP:OPAQUE
DTEND:19770408T060000Z
SUMMARY:Jerry Jeff Walker
CLASS:PUBLIC
DTSTAMP:20260421T004250Z
END:VEVENT
END:VCALENDAR