BEGIN:VCALENDAR
VERSION:2.0
PRODID:Dave Mason
BEGIN:VEVENT
UID:69e585e7385a0
DTSTART:19770826T050000Z
SEQUENCE:0
TRANSP:OPAQUE
DTEND:19770826T050000Z
SUMMARY:Dave Mason
CLASS:PUBLIC
DTSTAMP:20260420T014823Z
END:VEVENT
END:VCALENDAR