BEGIN:VCALENDAR
VERSION:2.0
PRODID:Hall & Oates
BEGIN:VEVENT
UID:69e74a42c1a8f
DTSTART:19761030T050000Z
SEQUENCE:0
TRANSP:OPAQUE
DTEND:19761030T050000Z
SUMMARY:Hall & Oates
CLASS:PUBLIC
DTSTAMP:20260421T095826Z
END:VEVENT
END:VCALENDAR