BEGIN:VCALENDAR
VERSION:2.0
PRODID:Garrick Ohlsson
BEGIN:VEVENT
UID:69e59854bbfd2
DTSTART:19751007T050000Z
SEQUENCE:0
TRANSP:OPAQUE
DTEND:19751007T050000Z
SUMMARY:Garrick Ohlsson
CLASS:PUBLIC
DTSTAMP:20260420T030700Z
END:VEVENT
END:VCALENDAR