BEGIN:VCALENDAR
VERSION:2.0
PRODID:Nutcracker Fantasy
BEGIN:VEVENT
UID:69e7f7bbaf256
DTSTART:19731215T060000Z
SEQUENCE:0
TRANSP:OPAQUE
DTEND:19731215T060000Z
SUMMARY:Nutcracker Fantasy
CLASS:PUBLIC
DTSTAMP:20260421T221835Z
END:VEVENT
END:VCALENDAR