BEGIN:VCALENDAR
VERSION:2.0
PRODID:Zorba
BEGIN:VEVENT
UID:69e77dfd373e8
DTSTART:19710417T060000Z
SEQUENCE:0
TRANSP:OPAQUE
DTEND:19710417T060000Z
SUMMARY:Zorba
CLASS:PUBLIC
DTSTAMP:20260421T133909Z
END:VEVENT
END:VCALENDAR