BEGIN:VCALENDAR
VERSION:2.0
PRODID:Frula
BEGIN:VEVENT
UID:69e63dc7aff8d
DTSTART:19711027T050000Z
SEQUENCE:0
TRANSP:OPAQUE
DTEND:19711027T050000Z
SUMMARY:Frula
CLASS:PUBLIC
DTSTAMP:20260420T145255Z
END:VEVENT
END:VCALENDAR