BEGIN:VCALENDAR
VERSION:2.0
PRODID:Nutcracker Fantasy
BEGIN:VEVENT
UID:69e5985437963
DTSTART:19711217T060000Z
SEQUENCE:0
TRANSP:OPAQUE
DTEND:19711217T060000Z
SUMMARY:Nutcracker Fantasy
CLASS:PUBLIC
DTSTAMP:20260420T030700Z
END:VEVENT
END:VCALENDAR