BEGIN:VCALENDAR
VERSION:2.0
PRODID:Welcome Week
BEGIN:VEVENT
UID:69e54c0d5eb7d
DTSTART:19690927T050000Z
SEQUENCE:0
TRANSP:OPAQUE
DTEND:19690927T050000Z
SUMMARY:Welcome Week
CLASS:PUBLIC
DTSTAMP:20260419T214133Z
END:VEVENT
END:VCALENDAR