BEGIN:VCALENDAR
VERSION:2.0
PRODID:Chris Montez
BEGIN:VEVENT
UID:69ed868c604a0
DTSTART:19681012T050000Z
SEQUENCE:0
TRANSP:OPAQUE
DTEND:19681012T050000Z
SUMMARY:Chris Montez
CLASS:PUBLIC
DTSTAMP:20260426T032916Z
END:VEVENT
END:VCALENDAR